BEGIN:VCALENDAR
VERSION:2.0
METHOD:PUBLISH
CALSCALE:GREGORIAN
PRODID:-//Refresh Web Development//Helios Calendar//EN
X-FROM-URL:https://www.bayareascience.org/calendar/index.php?com=details&eID=34839
X-WR-RELCALID:BayAreaScience.org AI's Impact on Society: How Do We Do This the Right Way? 20231025T173000
X-WR-TIMEZONE:America/New_York
X-WR-CALNAME:BayAreaScience.org
BEGIN:VEVENT
URL;VALUE=URI:https://www.bayareascience.org/calendar/index.php?com=detail&eID=34839
DTSTART:20231025T173000
DTEND:20231025T200000
SUMMARY:AI's Impact on Society: How Do We Do This the Right Way?
DESCRIPTION:Ready for a night out? We got views\, food\, and drinks - and an important panel discussion:"AI's Impact on Society: How Do We Do This the Right Way?"Delve into...\n______________________________\nThis Event Downloaded From a Helios Calendar Powered Site
LOCATION:ServiceNow - 101 Green St \, San Francisco\, CA  94111
CATEGORIES:BayAreaScience.org Events
PRIORITY:0
TRANSP:TRANSPARENT
END:VEVENT
END:VCALENDAR