BEGIN:VCALENDAR
VERSION:2.0
METHOD:PUBLISH
CALSCALE:GREGORIAN
PRODID:-//Refresh Web Development//Helios Calendar//EN
X-FROM-URL:https://www.bayareascience.org/calendar/index.php?com=details&eID=34846
X-WR-RELCALID:BayAreaScience.org Community-Engaged Climate Adaptation Research in YucatÃ¡n, Mexico 20231025T121000
X-WR-TIMEZONE:America/New_York
X-WR-CALNAME:BayAreaScience.org
BEGIN:VEVENT
URL;VALUE=URI:https://www.bayareascience.org/calendar/index.php?com=detail&eID=34846
DTSTART:20231025T121000
DTEND:20231025T121000
SUMMARY:Community-Engaged Climate Adaptation Research in YucatÃ¡n\, Mexico
DESCRIPTION:In YucatÃ¡n\, as in many regions around the world\, a history exists of Indigenous land and heritage dispossession\, which continue today. This presentation introduces a case in which archaeologists\,...\n______________________________\nThis Event Downloaded From a Helios Calendar Powered Site
LOCATION:Archaeology Research Facility - UC Berkeley 2251 College\, Berkeley\, CA  94720
CATEGORIES:BayAreaScience.org Events
PRIORITY:0
TRANSP:TRANSPARENT
END:VEVENT
END:VCALENDAR