BEGIN:VCALENDAR
VERSION:2.0
METHOD:PUBLISH
CALSCALE:GREGORIAN
PRODID:-//Refresh Web Development//Helios Calendar//EN
X-FROM-URL:https://www.bayareascience.org/calendar/index.php?com=details&eID=34854
X-WR-RELCALID:BayAreaScience.org Icy insights by bridging models and observations: Antarctic mass loss sensitivity to the thermal state 20231205T153000
X-WR-TIMEZONE:America/New_York
X-WR-CALNAME:BayAreaScience.org
BEGIN:VEVENT
URL;VALUE=URI:https://www.bayareascience.org/calendar/index.php?com=detail&eID=34854
DTSTART:20231205T153000
DTEND:20231205T153000
SUMMARY:Icy insights by bridging models and observations: Antarctic mass loss sensitivity to the thermal state
DESCRIPTION:\n______________________________\nThis Event Downloaded From a Helios Calendar Powered Site
LOCATION:Earth and Marine Sciences Building - UC Santa Cruz Room A340\, Santa Cruz\, CA  95064
CATEGORIES:BayAreaScience.org Events
PRIORITY:0
TRANSP:TRANSPARENT
END:VEVENT
END:VCALENDAR