BEGIN:VCALENDAR
VERSION:2.0
METHOD:PUBLISH
CALSCALE:GREGORIAN
PRODID:-//Refresh Web Development//Helios Calendar//EN
X-FROM-URL:https://www.bayareascience.org/calendar/index.php?com=details&eID=34855
X-WR-RELCALID:BayAreaScience.org Silicon Valley Talks: Chris Clay, 'Unstoppable' 20231025T120000
X-WR-TIMEZONE:America/New_York
X-WR-CALNAME:BayAreaScience.org
BEGIN:VEVENT
URL;VALUE=URI:https://www.bayareascience.org/calendar/index.php?com=detail&eID=34855
DTSTART:20231025T120000
DTEND:20231025T130000
SUMMARY:Silicon Valley Talks: Chris Clay\, 'Unstoppable'
DESCRIPTION:UnstoppableÂ explores the life of Roy L. Clay Sr. from his time as a teenager using his uncanny math skills to run back-room craps game in segregated\, rural Missouri\, to his rise as...\n______________________________\nThis Event Downloaded From a Helios Calendar Powered Site
LOCATION:Hohbach Hall\, Room 122 - 557 Escondido Mall Stanford University\, Stanford\, CA  94304
CATEGORIES:BayAreaScience.org Events
PRIORITY:0
TRANSP:TRANSPARENT
END:VEVENT
END:VCALENDAR