BEGIN:VCALENDAR
VERSION:2.0
METHOD:PUBLISH
CALSCALE:GREGORIAN
PRODID:-//Refresh Web Development//Helios Calendar//EN
X-FROM-URL:https://www.bayareascience.org/calendar/index.php?com=details&eID=34862
X-WR-RELCALID:BayAreaScience.org Connecting Subsurface Stress and Geomorphic Features 20231026T120000
X-WR-TIMEZONE:America/New_York
X-WR-CALNAME:BayAreaScience.org
BEGIN:VEVENT
URL;VALUE=URI:https://www.bayareascience.org/calendar/index.php?com=detail&eID=34862
DTSTART:20231026T120000
DTEND:20231026T130000
SUMMARY:Connecting Subsurface Stress and Geomorphic Features
DESCRIPTION:The lithospheric stress field controls the development of topography\, faulting\, and non-brittle deformation. At long wavelengths\, the sources of stress can be found in variations in the thickness...\n______________________________\nThis Event Downloaded From a Helios Calendar Powered Site
LOCATION:Mitchell Earth Sciences Building (04-560) - 397 Panama Mall Stanford University\, Stanford\, CA  94305
CATEGORIES:BayAreaScience.org Events
PRIORITY:0
TRANSP:TRANSPARENT
END:VEVENT
END:VCALENDAR