BEGIN:VCALENDAR
VERSION:2.0
METHOD:PUBLISH
CALSCALE:GREGORIAN
PRODID:-//Refresh Web Development//Helios Calendar//EN
X-FROM-URL:https://www.bayareascience.org/calendar/index.php?com=details&eID=34863
X-WR-RELCALID:BayAreaScience.org Elucidating oxygen reduction mechanisms on organic mixed ionic-electronic conducting polymers - Livestream 20231027T100000
X-WR-TIMEZONE:America/New_York
X-WR-CALNAME:BayAreaScience.org
BEGIN:VEVENT
URL;VALUE=URI:https://www.bayareascience.org/calendar/index.php?com=detail&eID=34863
DTSTART:20231027T100000
DTEND:20231027T110000
SUMMARY:Elucidating oxygen reduction mechanisms on organic mixed ionic-electronic conducting polymers - Livestream
DESCRIPTION:Speaker: Ana Isabel De La Fuente Duran\, Stanford UniversityRegister at weblink\n______________________________\nThis Event Downloaded From a Helios Calendar Powered Site
LOCATION:Stanford University -  \, \, CA  
CATEGORIES:BayAreaScience.org Events
PRIORITY:0
TRANSP:TRANSPARENT
END:VEVENT
END:VCALENDAR