BEGIN:VCALENDAR
VERSION:2.0
METHOD:PUBLISH
CALSCALE:GREGORIAN
PRODID:-//Refresh Web Development//Helios Calendar//EN
X-FROM-URL:https://www.bayareascience.org/calendar/index.php?com=details&eID=34864
X-WR-RELCALID:BayAreaScience.org Neurocryptography 20231026T193000
X-WR-TIMEZONE:America/New_York
X-WR-CALNAME:BayAreaScience.org
BEGIN:VEVENT
URL;VALUE=URI:https://www.bayareascience.org/calendar/index.php?com=detail&eID=34864
DTSTART:20231026T193000
DTEND:20231026T210000
SUMMARY:Neurocryptography
DESCRIPTION:How can we make it harder to misuse powerful AI systems\, such as GPT-4\, for propaganda\, fraud\, academic cheating\, copyright violation\, and so on? In this talk\, Iâ€™ll survey one class of approaches\,...\n______________________________\nThis Event Downloaded From a Helios Calendar Powered Site
LOCATION:Cemex Auditorium - Stanford University 641 Knight Way\, Stanford\, CA United States 94305
CATEGORIES:BayAreaScience.org Events
PRIORITY:0
TRANSP:TRANSPARENT
END:VEVENT
END:VCALENDAR