BEGIN:VCALENDAR
VERSION:2.0
METHOD:PUBLISH
CALSCALE:GREGORIAN
PRODID:-//Refresh Web Development//Helios Calendar//EN
X-FROM-URL:https://www.bayareascience.org/calendar/index.php?com=details&eID=34867
X-WR-RELCALID:BayAreaScience.org North Ridge Trail Hike at Purisima Creek Redwoods 20231116T090000
X-WR-TIMEZONE:America/New_York
X-WR-CALNAME:BayAreaScience.org
BEGIN:VEVENT
URL;VALUE=URI:https://www.bayareascience.org/calendar/index.php?com=detail&eID=34867
DTSTART:20231116T090000
DTEND:20231116T120000
SUMMARY:North Ridge Trail Hike at Purisima Creek Redwoods
DESCRIPTION:Join POST for a beautiful and strenuous but rewarding 4.5-mile hike through the redwoods at Purisima Creek Redwoods!This out-and-back hike is moderately strenuous\, with several inclines...\n______________________________\nThis Event Downloaded From a Helios Calendar Powered Site
LOCATION:Purisima Creek North Ridge Trailhead - 13130 Skyline Blvd \, Woodside\, CA  94062
CATEGORIES:BayAreaScience.org Events
PRIORITY:0
TRANSP:TRANSPARENT
END:VEVENT
END:VCALENDAR