BEGIN:VCALENDAR
VERSION:2.0
METHOD:PUBLISH
CALSCALE:GREGORIAN
PRODID:-//Refresh Web Development//Helios Calendar//EN
X-FROM-URL:https://www.bayareascience.org/calendar/index.php?com=details&eID=34870
X-WR-RELCALID:BayAreaScience.org Roundtable: Sustainable Urban Future in San Francisco 20231107T141500
X-WR-TIMEZONE:America/New_York
X-WR-CALNAME:BayAreaScience.org
BEGIN:VEVENT
URL;VALUE=URI:https://www.bayareascience.org/calendar/index.php?com=detail&eID=34870
DTSTART:20231107T141500
DTEND:20231107T154500
SUMMARY:Roundtable: Sustainable Urban Future in San Francisco
DESCRIPTION:Join us for a roundtable discussion on Urban Policy in collaboration with SPUR\, the San Francisco Bay Area Planning and Urban...\n______________________________\nThis Event Downloaded From a Helios Calendar Powered Site
LOCATION:swissnex San Francisco - The Embarcadero Pier 17\, Suite 800\, San Francisco\, CA  94111
CATEGORIES:BayAreaScience.org Events
PRIORITY:0
TRANSP:TRANSPARENT
END:VEVENT
END:VCALENDAR