BEGIN:VCALENDAR
VERSION:2.0
METHOD:PUBLISH
CALSCALE:GREGORIAN
PRODID:-//Refresh Web Development//Helios Calendar//EN
X-FROM-URL:https://www.bayareascience.org/calendar/index.php?com=details&eID=34876
X-WR-RELCALID:BayAreaScience.org Family Astronomy: Winter Solstice - The Longest Night 20231221T180000
X-WR-TIMEZONE:America/New_York
X-WR-CALNAME:BayAreaScience.org
BEGIN:VEVENT
URL;VALUE=URI:https://www.bayareascience.org/calendar/index.php?com=detail&eID=34876
DTSTART:20231221T180000
DTEND:20231221T200000
SUMMARY:Family Astronomy: Winter Solstice - The Longest Night
DESCRIPTION:Explore the fascinating history\, diverse cultural customs\, and ancient rituals associated with the Winter Solstice. Youâ€™ll learn about the shortest day of the year\, the various types and...\n______________________________\nThis Event Downloaded From a Helios Calendar Powered Site
LOCATION:Chabot Space and Science Center - 10000 Skyline Blvd \, Oakland\, CA USA 94619
CATEGORIES:BayAreaScience.org Events
PRIORITY:0
TRANSP:TRANSPARENT
END:VEVENT
END:VCALENDAR