BEGIN:VCALENDAR
VERSION:2.0
METHOD:PUBLISH
CALSCALE:GREGORIAN
PRODID:-//Refresh Web Development//Helios Calendar//EN
X-FROM-URL:https://www.bayareascience.org/calendar/index.php?com=details&eID=34879
X-WR-RELCALID:BayAreaScience.org The Future of Medicine: How AI Will Effect the Medical Field 20231102T183000
X-WR-TIMEZONE:America/New_York
X-WR-CALNAME:BayAreaScience.org
BEGIN:VEVENT
URL;VALUE=URI:https://www.bayareascience.org/calendar/index.php?com=detail&eID=34879
DTSTART:20231102T183000
DTEND:20231102T193000
SUMMARY:The Future of Medicine: How AI Will Effect the Medical Field
DESCRIPTION:In recent years\, AI has taken the world by storm especially with things like ChatGPTFrom poetry to resumes\, AI is being used for all different purposes. While this technology has been mostly...\n______________________________\nThis Event Downloaded From a Helios Calendar Powered Site
LOCATION:Manny's - 3092 16th St \, San Francisco\, CA  94103
CATEGORIES:BayAreaScience.org Events
PRIORITY:0
TRANSP:TRANSPARENT
END:VEVENT
END:VCALENDAR