BEGIN:VCALENDAR
VERSION:2.0
METHOD:PUBLISH
CALSCALE:GREGORIAN
PRODID:-//Refresh Web Development//Helios Calendar//EN
X-FROM-URL:https://www.bayareascience.org/calendar/index.php?com=details&eID=34881
X-WR-RELCALID:BayAreaScience.org PG&Eâ€™s Evolving Approach to Wildfire Mitigation - Livestream 20231031T123000
X-WR-TIMEZONE:America/New_York
X-WR-CALNAME:BayAreaScience.org
BEGIN:VEVENT
URL;VALUE=URI:https://www.bayareascience.org/calendar/index.php?com=detail&eID=34881
DTSTART:20231031T123000
DTEND:20231031T133000
SUMMARY:PG&Eâ€™s Evolving Approach to Wildfire Mitigation - Livestream
DESCRIPTION:How has PG&E approach to Wildfire Mitigation changed and adapted since 2019\, and in lock step what are the underlying capabilities needed to operate a large electric grid in fire prone areas.See...\n______________________________\nThis Event Downloaded From a Helios Calendar Powered Site
LOCATION:Stanford University -  \, \, CA  
CATEGORIES:BayAreaScience.org Events
PRIORITY:0
TRANSP:TRANSPARENT
END:VEVENT
END:VCALENDAR