BEGIN:VCALENDAR
VERSION:2.0
METHOD:PUBLISH
CALSCALE:GREGORIAN
PRODID:-//Refresh Web Development//Helios Calendar//EN
X-FROM-URL:https://www.bayareascience.org/calendar/index.php?com=details&eID=34886
X-WR-RELCALID:BayAreaScience.org Six Eruptions at Two Volcanoes Over the Past Three Years - Livestream 20231130T180000
X-WR-TIMEZONE:America/New_York
X-WR-CALNAME:BayAreaScience.org
BEGIN:VEVENT
URL;VALUE=URI:https://www.bayareascience.org/calendar/index.php?com=detail&eID=34886
DTSTART:20231130T180000
DTEND:20231130T193000
SUMMARY:Six Eruptions at Two Volcanoes Over the Past Three Years - Livestream
DESCRIPTION:How the Hawaiian Volcano Observatory monitors some of Earthâ€™s most active volcanoesby Katie Mulliken\, Geologist\, Research Corporation of theÂ University...\n______________________________\nThis Event Downloaded From a Helios Calendar Powered Site
LOCATION:US Geological Survey Public Lecture Series -  \, \, CA  
CATEGORIES:BayAreaScience.org Events
PRIORITY:0
TRANSP:TRANSPARENT
END:VEVENT
END:VCALENDAR