BEGIN:VCALENDAR
VERSION:2.0
METHOD:PUBLISH
CALSCALE:GREGORIAN
PRODID:-//Refresh Web Development//Helios Calendar//EN
X-FROM-URL:https://www.bayareascience.org/calendar/index.php?com=details&eID=34887
X-WR-RELCALID:BayAreaScience.org The Quality of Groundwater Used for Public Supply in the Continental United States 20231102T120000
X-WR-TIMEZONE:America/New_York
X-WR-CALNAME:BayAreaScience.org
BEGIN:VEVENT
URL;VALUE=URI:https://www.bayareascience.org/calendar/index.php?com=detail&eID=34887
DTSTART:20231102T120000
DTEND:20231102T130000
SUMMARY:The Quality of Groundwater Used for Public Supply in the Continental United States
DESCRIPTION:What is the quality of groundwater used as a source of public supply in the continental United States (CONUS)? Â More specifically: Which constituents are most prevalent at elevated concentrations?...\n______________________________\nThis Event Downloaded From a Helios Calendar Powered Site
LOCATION:Mitchell Earth Sciences Building (04-560) - 397 Panama Mall Stanford University\, Stanford\, CA  94305
CATEGORIES:BayAreaScience.org Events
PRIORITY:0
TRANSP:TRANSPARENT
END:VEVENT
END:VCALENDAR