BEGIN:VCALENDAR
VERSION:2.0
METHOD:PUBLISH
CALSCALE:GREGORIAN
PRODID:-//Refresh Web Development//Helios Calendar//EN
X-FROM-URL:https://www.bayareascience.org/calendar/index.php?com=details&eID=34889
X-WR-RELCALID:BayAreaScience.org Fungal and Animal Interactions 20231116T193000
X-WR-TIMEZONE:America/New_York
X-WR-CALNAME:BayAreaScience.org
BEGIN:VEVENT
URL;VALUE=URI:https://www.bayareascience.org/calendar/index.php?com=detail&eID=34889
DTSTART:20231116T193000
DTEND:20231116T213000
SUMMARY:Fungal and Animal Interactions
DESCRIPTION:Todd Elliott grew up in the Southern Appalachians\, and his passion for the natural world has led him to work as a naturalist\, biologist\, and photographer on six continents. His collaborations and...\n______________________________\nThis Event Downloaded From a Helios Calendar Powered Site
LOCATION:Bay Area Mycological Society - Valley Life Sciences Building Room 1002\, UC Berkeley\, Berkeley\, CA  94720
CATEGORIES:BayAreaScience.org Events
PRIORITY:0
TRANSP:TRANSPARENT
END:VEVENT
END:VCALENDAR