BEGIN:VCALENDAR
VERSION:2.0
METHOD:PUBLISH
CALSCALE:GREGORIAN
PRODID:-//Refresh Web Development//Helios Calendar//EN
X-FROM-URL:https://www.bayareascience.org/calendar/index.php?com=details&eID=34890
X-WR-RELCALID:BayAreaScience.org Point Reyes National Seashore Fungus Fair 20240107T100000
X-WR-TIMEZONE:America/New_York
X-WR-CALNAME:BayAreaScience.org
BEGIN:VEVENT
URL;VALUE=URI:https://www.bayareascience.org/calendar/index.php?com=detail&eID=34890
DTSTART:20240107T100000
DTEND:20240107T160000
SUMMARY:Point Reyes National Seashore Fungus Fair
DESCRIPTION:Join us for the 17th annual Point Reyes National Seashore Fungus Fair. Attend free lectures in the Bear Valley Visitor Center Auditorium. Learn about fungi and their role in the many Point Reyes...\n______________________________\nThis Event Downloaded From a Helios Calendar Powered Site
LOCATION:Bear Valley Visitor Center - 1 Bear Valley Visitor Center Access Road Red Barn Classroom\, Point Reyes Station\, CA  94956
CATEGORIES:BayAreaScience.org Events
PRIORITY:0
TRANSP:TRANSPARENT
END:VEVENT
END:VCALENDAR