BEGIN:VCALENDAR
VERSION:2.0
METHOD:PUBLISH
CALSCALE:GREGORIAN
PRODID:-//Refresh Web Development//Helios Calendar//EN
X-FROM-URL:https://www.bayareascience.org/calendar/index.php?com=details&eID=34899
X-WR-RELCALID:BayAreaScience.org AI, Medicine, and the Limits of the Human Mind - Livestream 20231107T140000
X-WR-TIMEZONE:America/New_York
X-WR-CALNAME:BayAreaScience.org
BEGIN:VEVENT
URL;VALUE=URI:https://www.bayareascience.org/calendar/index.php?com=detail&eID=34899
DTSTART:20231107T140000
DTEND:20231107T153000
SUMMARY:AI\, Medicine\, and the Limits of the Human Mind - Livestream
DESCRIPTION:â€œWill we still have doctors in 20 years?â€ is a common question. The answer is yes. But medicine\, along with both the doctor and patient roles\, will be fundamentally transformed by AI....\n______________________________\nThis Event Downloaded From a Helios Calendar Powered Site
LOCATION:UC Berkeley -  \, \, CA  
CATEGORIES:BayAreaScience.org Events
PRIORITY:0
TRANSP:TRANSPARENT
END:VEVENT
END:VCALENDAR