BEGIN:VCALENDAR
VERSION:2.0
METHOD:PUBLISH
CALSCALE:GREGORIAN
PRODID:-//Refresh Web Development//Helios Calendar//EN
X-FROM-URL:https://www.bayareascience.org/calendar/index.php?com=details&eID=34900
X-WR-RELCALID:BayAreaScience.org The Digital is a Ruin: Digital Space, Geography and the End of the World 20231108T153000
X-WR-TIMEZONE:America/New_York
X-WR-CALNAME:BayAreaScience.org
BEGIN:VEVENT
URL;VALUE=URI:https://www.bayareascience.org/calendar/index.php?com=detail&eID=34900
DTSTART:20231108T153000
DTEND:20231108T170000
SUMMARY:The Digital is a Ruin: Digital Space\, Geography and the End of the World
DESCRIPTION:Using the case study of urban and ruin imaginaries in the virtual worlds of digital spatial media\, this presentation examines the potentiality of digital space as both...\n______________________________\nThis Event Downloaded From a Helios Calendar Powered Site
LOCATION:McCone Hall - UC Berkeley Room 575\, Berkeley\, CA  94720
CATEGORIES:BayAreaScience.org Events
PRIORITY:0
TRANSP:TRANSPARENT
END:VEVENT
END:VCALENDAR