BEGIN:VCALENDAR
VERSION:2.0
METHOD:PUBLISH
CALSCALE:GREGORIAN
PRODID:-//Refresh Web Development//Helios Calendar//EN
X-FROM-URL:https://www.bayareascience.org/calendar/index.php?com=details&eID=34909
X-WR-RELCALID:BayAreaScience.org  On the Integration of Hydrogen into Hybrid Energy Systems: Reliability Assessment, Optimal Operation and Planning 20231130T133000
X-WR-TIMEZONE:America/New_York
X-WR-CALNAME:BayAreaScience.org
BEGIN:VEVENT
URL;VALUE=URI:https://www.bayareascience.org/calendar/index.php?com=detail&eID=34909
DTSTART:20231130T133000
DTEND:20231130T143000
SUMMARY: On the Integration of Hydrogen into Hybrid Energy Systems: Reliability Assessment\, Optimal Operation and Planning
DESCRIPTION:\n______________________________\nThis Event Downloaded From a Helios Calendar Powered Site
LOCATION:Environment & Energy Building (Y2E2) - Stanford University \, Stanford\, CA  94305
CATEGORIES:BayAreaScience.org Events
PRIORITY:0
TRANSP:TRANSPARENT
END:VEVENT
END:VCALENDAR