BEGIN:VCALENDAR
VERSION:2.0
METHOD:PUBLISH
CALSCALE:GREGORIAN
PRODID:-//Refresh Web Development//Helios Calendar//EN
X-FROM-URL:https://www.bayareascience.org/calendar/index.php?com=details&eID=34910
X-WR-RELCALID:BayAreaScience.org Fukushima nuclear waste release: Is it safe? Hear from scientists &. health 20231106T190000
X-WR-TIMEZONE:America/New_York
X-WR-CALNAME:BayAreaScience.org
BEGIN:VEVENT
URL;VALUE=URI:https://www.bayareascience.org/calendar/index.php?com=detail&eID=34910
DTSTART:20231106T190000
DTEND:20231106T210000
SUMMARY:Fukushima nuclear waste release: Is it safe? Hear from scientists &. health
DESCRIPTION:The public will hear from scientists\, environmental experts\, and health professionals as the world faces\, for the first time ever\, the planned release of 31\,000 tons of contaminated water into...\n______________________________\nThis Event Downloaded From a Helios Calendar Powered Site
LOCATION:Berkeley Senior Center - 2939 Ellis Street \, Berkeley\, CA  94703
CATEGORIES:BayAreaScience.org Events
PRIORITY:0
TRANSP:TRANSPARENT
END:VEVENT
END:VCALENDAR