BEGIN:VCALENDAR
VERSION:2.0
METHOD:PUBLISH
CALSCALE:GREGORIAN
PRODID:-//Refresh Web Development//Helios Calendar//EN
X-FROM-URL:https://www.bayareascience.org/calendar/index.php?com=details&eID=34912
X-WR-RELCALID:BayAreaScience.org Youth Talk: The Influence of Environmental Activism on Gen Z Voting 20231115T173000
X-WR-TIMEZONE:America/New_York
X-WR-CALNAME:BayAreaScience.org
BEGIN:VEVENT
URL;VALUE=URI:https://www.bayareascience.org/calendar/index.php?com=detail&eID=34912
DTSTART:20231115T173000
DTEND:20231115T173000
SUMMARY:Youth Talk: The Influence of Environmental Activism on Gen Z Voting
DESCRIPTION:â€œThe Impact of Environmental Activism on Gen Z Votingâ€ unites four environmental leaders from a variety of backgrounds for a thought-provoking discussion about environmental activism...\n______________________________\nThis Event Downloaded From a Helios Calendar Powered Site
LOCATION:Eshleman Hall\, Senate Chambers\, 5th Floor - 2465 Bancroft Way UC Berkeley\, Berkeley\, CA  94720
CATEGORIES:BayAreaScience.org Events
PRIORITY:0
TRANSP:TRANSPARENT
END:VEVENT
END:VCALENDAR