BEGIN:VCALENDAR
VERSION:2.0
METHOD:PUBLISH
CALSCALE:GREGORIAN
PRODID:-//Refresh Web Development//Helios Calendar//EN
X-FROM-URL:https://www.bayareascience.org/calendar/index.php?com=details&eID=34913
X-WR-RELCALID:BayAreaScience.org Through the Fantastic Eyes of Frogs and Toads: How scientists study what frogs and toads see 20231115T193000
X-WR-TIMEZONE:America/New_York
X-WR-CALNAME:BayAreaScience.org
BEGIN:VEVENT
URL;VALUE=URI:https://www.bayareascience.org/calendar/index.php?com=detail&eID=34913
DTSTART:20231115T193000
DTEND:20231115T203000
SUMMARY:Through the Fantastic Eyes of Frogs and Toads: How scientists study what frogs and toads see
DESCRIPTION:Speaker: Rayna Bell\, California Academy of SciencesEditor's Note: This event was originally scheduled on 11/08/2023\n______________________________\nThis Event Downloaded From a Helios Calendar Powered Site
LOCATION:Marin Science Seminar - 320 Nova Albion Way Terra Linda High School Innovation Hub 1st Floor\, San Rafael\, CA USA 94903
CATEGORIES:BayAreaScience.org Events
PRIORITY:0
TRANSP:TRANSPARENT
END:VEVENT
END:VCALENDAR