BEGIN:VCALENDAR
VERSION:2.0
METHOD:PUBLISH
CALSCALE:GREGORIAN
PRODID:-//Refresh Web Development//Helios Calendar//EN
X-FROM-URL:https://www.bayareascience.org/calendar/index.php?com=details&eID=34916
X-WR-RELCALID:BayAreaScience.org  After APEC: What's China's Role in California's Green Transition? 20231115T180000
X-WR-TIMEZONE:America/New_York
X-WR-CALNAME:BayAreaScience.org
BEGIN:VEVENT
URL;VALUE=URI:https://www.bayareascience.org/calendar/index.php?com=detail&eID=34916
DTSTART:20231115T180000
DTEND:20231115T193000
SUMMARY: After APEC: What's China's Role in California's Green Transition?
DESCRIPTION:As government officials\, diplomats and business leaders from across the Asia-Pacific converge in San Francisco for APEC 2023 Leaders Week\, the question on everyoneâ€™s lips is: What next for...\n______________________________\nThis Event Downloaded From a Helios Calendar Powered Site
LOCATION:Commonwealth Club - 110 The Embarcadero \, San Francisco\, CA  94105
CATEGORIES:BayAreaScience.org Events
PRIORITY:0
TRANSP:TRANSPARENT
END:VEVENT
END:VCALENDAR