BEGIN:VCALENDAR
VERSION:2.0
METHOD:PUBLISH
CALSCALE:GREGORIAN
PRODID:-//Refresh Web Development//Helios Calendar//EN
X-FROM-URL:https://www.bayareascience.org/calendar/index.php?com=details&eID=34924
X-WR-RELCALID:BayAreaScience.org The Science Behind Science Fiction: To Boldly Go 20231130T170000
X-WR-TIMEZONE:America/New_York
X-WR-CALNAME:BayAreaScience.org
BEGIN:VEVENT
URL;VALUE=URI:https://www.bayareascience.org/calendar/index.php?com=detail&eID=34924
DTSTART:20231130T170000
DTEND:20231130T183000
SUMMARY:The Science Behind Science Fiction: To Boldly Go
DESCRIPTION:Join us for an exciting event where we explore the fascinating connection between science and fiction! Dive into the world of sci-fi as we unravel the mysteries behind "To Boldly Go: How Nichelle...\n______________________________\nThis Event Downloaded From a Helios Calendar Powered Site
LOCATION:The Crown: Royal Coffee Lab & Tasting Room - 2523 Broadway \, Oakland\, CA  94612
CATEGORIES:BayAreaScience.org Events
PRIORITY:0
TRANSP:TRANSPARENT
END:VEVENT
END:VCALENDAR