BEGIN:VCALENDAR
VERSION:2.0
METHOD:PUBLISH
CALSCALE:GREGORIAN
PRODID:-//Refresh Web Development//Helios Calendar//EN
X-FROM-URL:https://www.bayareascience.org/calendar/index.php?com=details&eID=34925
X-WR-RELCALID:BayAreaScience.org Building a portfolio of scalable carbon removal solutions - Considerations of durability, scalability and energetics 20231113T163000
X-WR-TIMEZONE:America/New_York
X-WR-CALNAME:BayAreaScience.org
BEGIN:VEVENT
URL;VALUE=URI:https://www.bayareascience.org/calendar/index.php?com=detail&eID=34925
DTSTART:20231113T163000
DTEND:20231113T172000
SUMMARY:Building a portfolio of scalable carbon removal solutions - Considerations of durability\, scalability and energetics
DESCRIPTION:\n______________________________\nThis Event Downloaded From a Helios Calendar Powered Site
LOCATION:Stanford University Energy Seminar - Huang Science Center NVIDIA Auditorium\, Stanford\, CA  94305
CATEGORIES:BayAreaScience.org Events
PRIORITY:0
TRANSP:TRANSPARENT
END:VEVENT
END:VCALENDAR