BEGIN:VCALENDAR
VERSION:2.0
METHOD:PUBLISH
CALSCALE:GREGORIAN
PRODID:-//Refresh Web Development//Helios Calendar//EN
X-FROM-URL:https://www.bayareascience.org/calendar/index.php?com=details&eID=34930
X-WR-RELCALID:BayAreaScience.org Go On A Lichen Hike V2 20231118T100000
X-WR-TIMEZONE:America/New_York
X-WR-CALNAME:BayAreaScience.org
BEGIN:VEVENT
URL;VALUE=URI:https://www.bayareascience.org/calendar/index.php?com=detail&eID=34930
DTSTART:20231118T100000
DTEND:20231118T130000
SUMMARY:Go On A Lichen Hike V2
DESCRIPTION:This hike was originally scheduled for Sept 23 (as part of Mt Tamalpais State Park Science Quest Day)\, but had to be cancelled. Folks who RSVP'd to the original hike will be given early access...\n______________________________\nThis Event Downloaded From a Helios Calendar Powered Site
LOCATION:Rock Spring Trailhead - West Ridgecrest Blvd Mt Tamalpais State Park\, Stinson Beach\, CA  94970
CATEGORIES:BayAreaScience.org Events
PRIORITY:0
TRANSP:TRANSPARENT
END:VEVENT
END:VCALENDAR