BEGIN:VCALENDAR
VERSION:2.0
METHOD:PUBLISH
CALSCALE:GREGORIAN
PRODID:-//Refresh Web Development//Helios Calendar//EN
X-FROM-URL:https://www.bayareascience.org/calendar/index.php?com=details&eID=34934
X-WR-RELCALID:BayAreaScience.org Adapting Food Systems to Climate Change 20231114T170000
X-WR-TIMEZONE:America/New_York
X-WR-CALNAME:BayAreaScience.org
BEGIN:VEVENT
URL;VALUE=URI:https://www.bayareascience.org/calendar/index.php?com=detail&eID=34934
DTSTART:20231114T170000
DTEND:20231114T180000
SUMMARY:Adapting Food Systems to Climate Change
DESCRIPTION:Global food insecurity is rising\, due in part to the impact of climate change on weather patterns. In South Asia\, where 25% of the worldâ€™s hungry and 40% of the worldâ€™s malnourished...\n______________________________\nThis Event Downloaded From a Helios Calendar Powered Site
LOCATION:Gunn Building (SPIER) - 366 Galvez St Koret-Taube Conference Center\, Stanford\, CA  94305
CATEGORIES:BayAreaScience.org Events
PRIORITY:0
TRANSP:TRANSPARENT
END:VEVENT
END:VCALENDAR