BEGIN:VCALENDAR
VERSION:2.0
METHOD:PUBLISH
CALSCALE:GREGORIAN
PRODID:-//Refresh Web Development//Helios Calendar//EN
X-FROM-URL:https://www.bayareascience.org/calendar/index.php?com=details&eID=34935
X-WR-RELCALID:BayAreaScience.org Addressing Deep Ocean Knowledge Gaps for Earth's Present and Future - Rescheduled 20231114T100000
X-WR-TIMEZONE:America/New_York
X-WR-CALNAME:BayAreaScience.org
BEGIN:VEVENT
URL;VALUE=URI:https://www.bayareascience.org/calendar/index.php?com=detail&eID=34935
DTSTART:20231114T100000
DTEND:20231114T110000
SUMMARY:Addressing Deep Ocean Knowledge Gaps for Earth's Present and Future - Rescheduled
DESCRIPTION:\n______________________________\nThis Event Downloaded From a Helios Calendar Powered Site
LOCATION:Mitchell Earth Sciences Building (04-560) - 397 Panama Mall Stanford University\, Stanford\, CA  94305
CATEGORIES:BayAreaScience.org Events
PRIORITY:0
TRANSP:TRANSPARENT
END:VEVENT
END:VCALENDAR