BEGIN:VCALENDAR
VERSION:2.0
METHOD:PUBLISH
CALSCALE:GREGORIAN
PRODID:-//Refresh Web Development//Helios Calendar//EN
X-FROM-URL:https://www.bayareascience.org/calendar/index.php?com=details&eID=34936
X-WR-RELCALID:BayAreaScience.org Nonprofits and wildfire. The evolution of the Santa Clara County FireSafe Council: From hazardous fuels reduction to technology leader - Livestream 20231114T123000
X-WR-TIMEZONE:America/New_York
X-WR-CALNAME:BayAreaScience.org
BEGIN:VEVENT
URL;VALUE=URI:https://www.bayareascience.org/calendar/index.php?com=detail&eID=34936
DTSTART:20231114T123000
DTEND:20231114T133000
SUMMARY:Nonprofits and wildfire. The evolution of the Santa Clara County FireSafe Council: From hazardous fuels reduction to technology leader - Livestream
DESCRIPTION:The webinar and presentation will showcase the role nonprofits play in regional wildfire mitigation\, and the evolution of the Santa Clara County FireSafe Council (SCCFSC) from a grassroots nonprofit...\n______________________________\nThis Event Downloaded From a Helios Calendar Powered Site
LOCATION:Stanford University -  \, \, CA  
CATEGORIES:BayAreaScience.org Events
PRIORITY:0
TRANSP:TRANSPARENT
END:VEVENT
END:VCALENDAR