BEGIN:VCALENDAR
VERSION:2.0
METHOD:PUBLISH
CALSCALE:GREGORIAN
PRODID:-//Refresh Web Development//Helios Calendar//EN
X-FROM-URL:https://www.bayareascience.org/calendar/index.php?com=details&eID=34941
X-WR-RELCALID:BayAreaScience.org After Dark: Go with the Glow 20231207T180000
X-WR-TIMEZONE:America/New_York
X-WR-CALNAME:BayAreaScience.org
BEGIN:VEVENT
URL;VALUE=URI:https://www.bayareascience.org/calendar/index.php?com=detail&eID=34941
DTSTART:20231207T180000
DTEND:20231207T220000
SUMMARY:After Dark: Go with the Glow
DESCRIPTION:Forget about happy lamps - beat the winter blues with Glow\, our seasonal exhibition at the Exploratorium After Dark! Spontaneously create music with giant light cubes. Feel human again...\n______________________________\nThis Event Downloaded From a Helios Calendar Powered Site
LOCATION:ExplOratorium - Pier 15 (Embarcadero at Green Street)  \, San Francisco\, CA USA 94111
CATEGORIES:BayAreaScience.org Events
PRIORITY:0
TRANSP:TRANSPARENT
END:VEVENT
END:VCALENDAR