BEGIN:VCALENDAR
VERSION:2.0
METHOD:PUBLISH
CALSCALE:GREGORIAN
PRODID:-//Refresh Web Development//Helios Calendar//EN
X-FROM-URL:https://www.bayareascience.org/calendar/index.php?com=details&eID=34946
X-WR-RELCALID:BayAreaScience.org Homo addictus: cosmology, archaeological science, and human material relations through time (Part 1) 20231115T120000
X-WR-TIMEZONE:America/New_York
X-WR-CALNAME:BayAreaScience.org
BEGIN:VEVENT
URL;VALUE=URI:https://www.bayareascience.org/calendar/index.php?com=detail&eID=34946
DTSTART:20231115T120000
DTEND:20231115T130000
SUMMARY:Homo addictus: cosmology\, archaeological science\, and human material relations through time (Part 1)
DESCRIPTION:\n______________________________\nThis Event Downloaded From a Helios Calendar Powered Site
LOCATION:Archaeology Center (Bldg 500) - 488 Escondido Mall Room 106\, Stanford\, CA  94305
CATEGORIES:BayAreaScience.org Events
PRIORITY:0
TRANSP:TRANSPARENT
END:VEVENT
END:VCALENDAR