BEGIN:VCALENDAR
VERSION:2.0
METHOD:PUBLISH
CALSCALE:GREGORIAN
PRODID:-//Refresh Web Development//Helios Calendar//EN
X-FROM-URL:https://www.bayareascience.org/calendar/index.php?com=details&eID=34948
X-WR-RELCALID:BayAreaScience.org Science on Tap: Cetaceans & Tales of Whales 20240125T173000
X-WR-TIMEZONE:America/New_York
X-WR-CALNAME:BayAreaScience.org
BEGIN:VEVENT
URL;VALUE=URI:https://www.bayareascience.org/calendar/index.php?com=detail&eID=34948
DTSTART:20240125T173000
DTEND:20240125T193000
SUMMARY:Science on Tap: Cetaceans & Tales of Whales
DESCRIPTION:Weâ€™re going to have a whale of a time with our first Science on Tap of 2024! Just in time for whale migration season\, join...\n______________________________\nThis Event Downloaded From a Helios Calendar Powered Site
LOCATION:Pacific Grove Museum of Natural History - 165 Forest Ave \, Pacific Grove\, CA  93950
CATEGORIES:BayAreaScience.org Events
PRIORITY:0
TRANSP:TRANSPARENT
END:VEVENT
END:VCALENDAR