BEGIN:VCALENDAR
VERSION:2.0
METHOD:PUBLISH
CALSCALE:GREGORIAN
PRODID:-//Refresh Web Development//Helios Calendar//EN
X-FROM-URL:https://www.bayareascience.org/calendar/index.php?com=details&eID=34952
X-WR-RELCALID:BayAreaScience.org Instrument Petting Zoo at the Lawrence Hall of Science 20231202T110000
X-WR-TIMEZONE:America/New_York
X-WR-CALNAME:BayAreaScience.org
BEGIN:VEVENT
URL;VALUE=URI:https://www.bayareascience.org/calendar/index.php?com=detail&eID=34952
DTSTART:20231202T110000
DTEND:20231202T140000
SUMMARY:Instrument Petting Zoo at the Lawrence Hall of Science
DESCRIPTION:Get up close and personal with musical instruments and get inspired by the power of music! UC Berkeley student group The Music Connection will introduce visitors to woodwind\, brass\, percussion\,...\n______________________________\nThis Event Downloaded From a Helios Calendar Powered Site
LOCATION:Lawrence Hall of Science - 1 Centennial Drive \, Berkeley\, CA USA 94720
CATEGORIES:BayAreaScience.org Events
PRIORITY:0
TRANSP:TRANSPARENT
END:VEVENT
END:VCALENDAR