BEGIN:VCALENDAR
VERSION:2.0
METHOD:PUBLISH
CALSCALE:GREGORIAN
PRODID:-//Refresh Web Development//Helios Calendar//EN
X-FROM-URL:https://www.bayareascience.org/calendar/index.php?com=details&eID=34955
X-WR-RELCALID:BayAreaScience.org Smart Grid Seminar: Grid Enhancing Technologies (GETs) 20231207T133000
X-WR-TIMEZONE:America/New_York
X-WR-CALNAME:BayAreaScience.org
BEGIN:VEVENT
URL;VALUE=URI:https://www.bayareascience.org/calendar/index.php?com=detail&eID=34955
DTSTART:20231207T133000
DTEND:20231207T143000
SUMMARY:Smart Grid Seminar: Grid Enhancing Technologies (GETs)
DESCRIPTION:The Smart Grid Seminar invites speakers from industry and academia to discuss energy and smart grid topics\, including energy decarbonization\, grid management\, and energy sustainability. Students...\n______________________________\nThis Event Downloaded From a Helios Calendar Powered Site
LOCATION:Environment & Energy Building (Y2E2) - Stanford University \, Stanford\, CA  94305
CATEGORIES:BayAreaScience.org Events
PRIORITY:0
TRANSP:TRANSPARENT
END:VEVENT
END:VCALENDAR