BEGIN:VCALENDAR
VERSION:2.0
METHOD:PUBLISH
CALSCALE:GREGORIAN
PRODID:-//Refresh Web Development//Helios Calendar//EN
X-FROM-URL:https://www.bayareascience.org/calendar/index.php?com=details&eID=34957
X-WR-RELCALID:BayAreaScience.org Astronomy on Tap Tucson #93: The Dark Matter Double Feature - Livestream 20231121T183000
X-WR-TIMEZONE:America/New_York
X-WR-CALNAME:BayAreaScience.org
BEGIN:VEVENT
URL;VALUE=URI:https://www.bayareascience.org/calendar/index.php?com=detail&eID=34957
DTSTART:20231121T183000
DTEND:20231121T203000
SUMMARY:Astronomy on Tap Tucson #93: The Dark Matter Double Feature - Livestream
DESCRIPTION:The Dark History of MatterSpeaker: Haley BowdenWhat is Dark Matter\, Anyway?\n______________________________\nThis Event Downloaded From a Helios Calendar Powered Site
LOCATION:Astronomy on Tap -  \, \, CA  
CATEGORIES:BayAreaScience.org Events
PRIORITY:0
TRANSP:TRANSPARENT
END:VEVENT
END:VCALENDAR