BEGIN:VCALENDAR
VERSION:2.0
METHOD:PUBLISH
CALSCALE:GREGORIAN
PRODID:-//Refresh Web Development//Helios Calendar//EN
X-FROM-URL:https://www.bayareascience.org/calendar/index.php?com=details&eID=34960
X-WR-RELCALID:BayAreaScience.org Insanely Great: The Apple MAC at 40 20240124T190000
X-WR-TIMEZONE:America/New_York
X-WR-CALNAME:BayAreaScience.org
BEGIN:VEVENT
URL;VALUE=URI:https://www.bayareascience.org/calendar/index.php?com=detail&eID=34960
DTSTART:20240124T190000
DTEND:20240124T204500
SUMMARY:Insanely Great: The Apple MAC at 40
DESCRIPTION:In January 1984\, Steve Jobs unveiled the Apple Macintosh\, an "insanely great" computer "for the rest of us" that changed the world - and Apple itself. Exemplifying a...\n______________________________\nThis Event Downloaded From a Helios Calendar Powered Site
LOCATION:Computer History Museum - 1401 N Shoreline Blvd  \, Mountain View\, CA  94043
CATEGORIES:BayAreaScience.org Events
PRIORITY:0
TRANSP:TRANSPARENT
END:VEVENT
END:VCALENDAR