BEGIN:VCALENDAR
VERSION:2.0
METHOD:PUBLISH
CALSCALE:GREGORIAN
PRODID:-//Refresh Web Development//Helios Calendar//EN
X-FROM-URL:https://www.bayareascience.org/calendar/index.php?com=details&eID=34965
X-WR-RELCALID:BayAreaScience.org The Kitchen Mycologist: The delicious surprises, the unfortunate flops, the great tips, and the ultimate lessons I learned 20231221T170000
X-WR-TIMEZONE:America/New_York
X-WR-CALNAME:BayAreaScience.org
BEGIN:VEVENT
URL;VALUE=URI:https://www.bayareascience.org/calendar/index.php?com=detail&eID=34965
DTSTART:20231221T170000
DTEND:20231221T170000
SUMMARY:The Kitchen Mycologist: The delicious surprises\, the unfortunate flops\, the great tips\, and the ultimate lessons I learned
DESCRIPTION:Speaker:...\n______________________________\nThis Event Downloaded From a Helios Calendar Powered Site
LOCATION:Sonoma County Mycological Association -  \, \, CA  
CATEGORIES:BayAreaScience.org Events
PRIORITY:0
TRANSP:TRANSPARENT
END:VEVENT
END:VCALENDAR