BEGIN:VCALENDAR
VERSION:2.0
METHOD:PUBLISH
CALSCALE:GREGORIAN
PRODID:-//Refresh Web Development//Helios Calendar//EN
X-FROM-URL:https://www.bayareascience.org/calendar/index.php?com=details&eID=34967
X-WR-RELCALID:BayAreaScience.org X-ray measurements to understand the science of fire spread by ember transport  - Livestream 20231128T123000
X-WR-TIMEZONE:America/New_York
X-WR-CALNAME:BayAreaScience.org
BEGIN:VEVENT
URL;VALUE=URI:https://www.bayareascience.org/calendar/index.php?com=detail&eID=34967
DTSTART:20231128T123000
DTEND:20231128T133000
SUMMARY:X-ray measurements to understand the science of fire spread by ember transport  - Livestream
DESCRIPTION:The severity and frequency of large wildfires have increased significantly in the past two decades\, which is largely attributed to poor forest management and climate change but also to growing...\n______________________________\nThis Event Downloaded From a Helios Calendar Powered Site
LOCATION:Stanford University -  \, \, CA  
CATEGORIES:BayAreaScience.org Events
PRIORITY:0
TRANSP:TRANSPARENT
END:VEVENT
END:VCALENDAR