BEGIN:VCALENDAR
VERSION:2.0
METHOD:PUBLISH
CALSCALE:GREGORIAN
PRODID:-//Refresh Web Development//Helios Calendar//EN
X-FROM-URL:https://www.bayareascience.org/calendar/index.php?com=details&eID=34972
X-WR-RELCALID:BayAreaScience.org  Billionth of a billionth to billions of billions - measurements at (and beyond) the quantum mechanical limits - Livestream 20240117T110000
X-WR-TIMEZONE:America/New_York
X-WR-CALNAME:BayAreaScience.org
BEGIN:VEVENT
URL;VALUE=URI:https://www.bayareascience.org/calendar/index.php?com=detail&eID=34972
DTSTART:20240117T110000
DTEND:20240117T120000
SUMMARY: Billionth of a billionth to billions of billions - measurements at (and beyond) the quantum mechanical limits - Livestream
DESCRIPTION:Measurement is a concept that is so ubiquitous...\n______________________________\nThis Event Downloaded From a Helios Calendar Powered Site
LOCATION:Monterey Bay Aquarium Research Institute -  \, \, CA  
CATEGORIES:BayAreaScience.org Events
PRIORITY:0
TRANSP:TRANSPARENT
END:VEVENT
END:VCALENDAR