BEGIN:VCALENDAR
VERSION:2.0
METHOD:PUBLISH
CALSCALE:GREGORIAN
PRODID:-//Refresh Web Development//Helios Calendar//EN
X-FROM-URL:https://www.bayareascience.org/calendar/index.php?com=details&eID=34973
X-WR-RELCALID:BayAreaScience.org Devices, DMs and D**k Pics: Youth Experiences of Cyberflashing and Missing Safety Nets - Livestream 20231128T120000
X-WR-TIMEZONE:America/New_York
X-WR-CALNAME:BayAreaScience.org
BEGIN:VEVENT
URL;VALUE=URI:https://www.bayareascience.org/calendar/index.php?com=detail&eID=34973
DTSTART:20231128T120000
DTEND:20231128T130000
SUMMARY:Devices\, DMs and D**k Pics: Youth Experiences of Cyberflashing and Missing Safety Nets - Livestream
DESCRIPTION:Adolescence is a period of increasing autonomy\, identity exploration\, and desires for physical and emotional intimacy. It is also when almost all youth have access to both a personal mobile device...\n______________________________\nThis Event Downloaded From a Helios Calendar Powered Site
LOCATION:Stanford University -  \, \, CA  
CATEGORIES:BayAreaScience.org Events
PRIORITY:0
TRANSP:TRANSPARENT
END:VEVENT
END:VCALENDAR