BEGIN:VCALENDAR
VERSION:2.0
METHOD:PUBLISH
CALSCALE:GREGORIAN
PRODID:-//Refresh Web Development//Helios Calendar//EN
X-FROM-URL:https://www.bayareascience.org/calendar/index.php?com=details&eID=34978
X-WR-RELCALID:BayAreaScience.org Cheetahs - Conservation and Art 20231204T090000
X-WR-TIMEZONE:America/New_York
X-WR-CALNAME:BayAreaScience.org
BEGIN:VEVENT
URL;VALUE=URI:https://www.bayareascience.org/calendar/index.php?com=detail&eID=34978
DTSTART:20231204T090000
DTEND:20231204T103000
SUMMARY:Cheetahs - Conservation and Art
DESCRIPTION:Monday\, December 4th is International Cheetah Day and a time to celebrate these magnificent animals and their uniqueness. As the fastest land mammal\, with the ability to go from 0 to 60mph in 3...\n______________________________\nThis Event Downloaded From a Helios Calendar Powered Site
LOCATION:John Muir Laws - TBA \, \, CA  
CATEGORIES:BayAreaScience.org Events
PRIORITY:0
TRANSP:TRANSPARENT
END:VEVENT
END:VCALENDAR