BEGIN:VCALENDAR
VERSION:2.0
METHOD:PUBLISH
CALSCALE:GREGORIAN
PRODID:-//Refresh Web Development//Helios Calendar//EN
X-FROM-URL:https://www.bayareascience.org/calendar/index.php?com=details&eID=34980
X-WR-RELCALID:BayAreaScience.org Swimming Smarter, not Harder: An Exploration of the Relationship between Locomotion and Energetics in Fishes 20231127T160000
X-WR-TIMEZONE:America/New_York
X-WR-CALNAME:BayAreaScience.org
BEGIN:VEVENT
URL;VALUE=URI:https://www.bayareascience.org/calendar/index.php?com=detail&eID=34980
DTSTART:20231127T160000
DTEND:20231127T170000
SUMMARY:Swimming Smarter\, not Harder: An Exploration of the Relationship between Locomotion and Energetics in Fishes
DESCRIPTION:Fishes exhibit extraordinary locomotor abilities\, a key factor in their evolutionary success. My research integrates detailed movement and energetics analyses of swimming with robotics to explore...\n______________________________\nThis Event Downloaded From a Helios Calendar Powered Site
LOCATION:Valley Life Sciences Building - UC Berkeley Room 2040\, Berkeley\, CA  94720
CATEGORIES:BayAreaScience.org Events
PRIORITY:0
TRANSP:TRANSPARENT
END:VEVENT
END:VCALENDAR