BEGIN:VCALENDAR
VERSION:2.0
METHOD:PUBLISH
CALSCALE:GREGORIAN
PRODID:-//Refresh Web Development//Helios Calendar//EN
X-FROM-URL:https://www.bayareascience.org/calendar/index.php?com=details&eID=34984
X-WR-RELCALID:BayAreaScience.org 2023 Grand Finale at Lawrence Hall of Science 20231231T100000
X-WR-TIMEZONE:America/New_York
X-WR-CALNAME:BayAreaScience.org
BEGIN:VEVENT
URL;VALUE=URI:https://www.bayareascience.org/calendar/index.php?com=detail&eID=34984
DTSTART:20231231T100000
DTEND:20231231T170000
SUMMARY:2023 Grand Finale at Lawrence Hall of Science
DESCRIPTION:Looking to celebrate the New Year with your kids but donâ€™t want to stay up past their bedtime? Our annual family-friendly New Yearâ€™s Eve celebration is back! You bring the holiday...\n______________________________\nThis Event Downloaded From a Helios Calendar Powered Site
LOCATION:Lawrence Hall of Science - 1 Centennial Drive \, Berkeley\, CA USA 94720
CATEGORIES:BayAreaScience.org Events
PRIORITY:0
TRANSP:TRANSPARENT
END:VEVENT
END:VCALENDAR