BEGIN:VCALENDAR
VERSION:2.0
METHOD:PUBLISH
CALSCALE:GREGORIAN
PRODID:-//Refresh Web Development//Helios Calendar//EN
X-FROM-URL:https://www.bayareascience.org/calendar/index.php?com=details&eID=34986
X-WR-RELCALID:BayAreaScience.org Solids, Liquids, and Gases Science Show - Second Session 20240105T140000
X-WR-TIMEZONE:America/New_York
X-WR-CALNAME:BayAreaScience.org
BEGIN:VEVENT
URL;VALUE=URI:https://www.bayareascience.org/calendar/index.php?com=detail&eID=34986
DTSTART:20240105T140000
DTEND:20240105T145000
SUMMARY:Solids\, Liquids\, and Gases Science Show - Second Session
DESCRIPTION:Celebrate the end of our Winter Weeks season with a live\, interactive experience! Explore the properties of the three states of matter - solids\, liquids\, and gasses - in this phase-changing\, mind-bending...\n______________________________\nThis Event Downloaded From a Helios Calendar Powered Site
LOCATION:Lawrence Hall of Science - 1 Centennial Drive \, Berkeley\, CA USA 94720
CATEGORIES:BayAreaScience.org Events
PRIORITY:0
TRANSP:TRANSPARENT
END:VEVENT
END:VCALENDAR