BEGIN:VCALENDAR
VERSION:2.0
METHOD:PUBLISH
CALSCALE:GREGORIAN
PRODID:-//Refresh Web Development//Helios Calendar//EN
X-FROM-URL:https://www.bayareascience.org/calendar/index.php?com=details&eID=34987
X-WR-RELCALID:BayAreaScience.org Recent Trends in AI 20231207T093000
X-WR-TIMEZONE:America/New_York
X-WR-CALNAME:BayAreaScience.org
BEGIN:VEVENT
URL;VALUE=URI:https://www.bayareascience.org/calendar/index.php?com=detail&eID=34987
DTSTART:20231207T093000
DTEND:20231207T110000
SUMMARY:Recent Trends in AI
DESCRIPTION:At the occasion of the visit of the Minister-President of Flanders (Belgium) to the Berkeley campus\, a roundtable conversation on recent trends in AI will be organized by the Institute of European...\n______________________________\nThis Event Downloaded From a Helios Calendar Powered Site
LOCATION:Philosophy Hall - UC Berkeley Room 223\, Berkeley\, CA  94720
CATEGORIES:BayAreaScience.org Events
PRIORITY:0
TRANSP:TRANSPARENT
END:VEVENT
END:VCALENDAR