BEGIN:VCALENDAR
VERSION:2.0
METHOD:PUBLISH
CALSCALE:GREGORIAN
PRODID:-//Refresh Web Development//Helios Calendar//EN
X-FROM-URL:https://www.bayareascience.org/calendar/index.php?com=details&eID=34988
X-WR-RELCALID:BayAreaScience.org Embodied Economies: How our Economic Stories Shape the World 20240123T190000
X-WR-TIMEZONE:America/New_York
X-WR-CALNAME:BayAreaScience.org
BEGIN:VEVENT
URL;VALUE=URI:https://www.bayareascience.org/calendar/index.php?com=detail&eID=34988
DTSTART:20240123T190000
DTEND:20240123T190000
SUMMARY:Embodied Economies: How our Economic Stories Shape the World
DESCRIPTION:Economic policy can seem abstract and distant\, but it manifests the physical world - affecting us all. Our economic stories shape our systems\, and they in turn shape us. What myths continue to...\n______________________________\nThis Event Downloaded From a Helios Calendar Powered Site
LOCATION:The Interval at Long Now - 2 Marina Blvd Fort Mason Center\, San Francisco\, CA  94123
CATEGORIES:BayAreaScience.org Events
PRIORITY:0
TRANSP:TRANSPARENT
END:VEVENT
END:VCALENDAR