BEGIN:VCALENDAR
VERSION:2.0
METHOD:PUBLISH
CALSCALE:GREGORIAN
PRODID:-//Refresh Web Development//Helios Calendar//EN
X-FROM-URL:https://www.bayareascience.org/calendar/index.php?com=details&eID=34989
X-WR-RELCALID:BayAreaScience.org Can we (yet) predict how fast Greenland is going to melt? 20231130T120000
X-WR-TIMEZONE:America/New_York
X-WR-CALNAME:BayAreaScience.org
BEGIN:VEVENT
URL;VALUE=URI:https://www.bayareascience.org/calendar/index.php?com=detail&eID=34989
DTSTART:20231130T120000
DTEND:20231130T130000
SUMMARY:Can we (yet) predict how fast Greenland is going to melt?
DESCRIPTION:The Greenland ice sheet has been losing mass in response to the rapid warming of the Arctic\, and is contributing to sea level rise at an increasing rate. Fluctuations in ocean and atmosphere circulations...\n______________________________\nThis Event Downloaded From a Helios Calendar Powered Site
LOCATION:Mitchell Earth Sciences Building (04-560) - 397 Panama Mall Stanford University\, Stanford\, CA  94305
CATEGORIES:BayAreaScience.org Events
PRIORITY:0
TRANSP:TRANSPARENT
END:VEVENT
END:VCALENDAR