BEGIN:VCALENDAR
VERSION:2.0
METHOD:PUBLISH
CALSCALE:GREGORIAN
PRODID:-//Refresh Web Development//Helios Calendar//EN
X-FROM-URL:https://www.bayareascience.org/calendar/index.php?com=details&eID=34992
X-WR-RELCALID:BayAreaScience.org Observation of Pines' Demon in Sr2RuO4 with Momentum-Resolved EELS 20231129T161500
X-WR-TIMEZONE:America/New_York
X-WR-CALNAME:BayAreaScience.org
BEGIN:VEVENT
URL;VALUE=URI:https://www.bayareascience.org/calendar/index.php?com=detail&eID=34992
DTSTART:20231129T161500
DTEND:20231129T173000
SUMMARY:Observation of Pines' Demon in Sr2RuO4 with Momentum-Resolved EELS
DESCRIPTION:\n______________________________\nThis Event Downloaded From a Helios Calendar Powered Site
LOCATION:Sloan Mathematics Ctr (Math Corner) Bldg 380 - 450 Serra Mall Stanford University\, Stanford\, CA USA 94305
CATEGORIES:BayAreaScience.org Events
PRIORITY:0
TRANSP:TRANSPARENT
END:VEVENT
END:VCALENDAR