BEGIN:VCALENDAR
VERSION:2.0
METHOD:PUBLISH
CALSCALE:GREGORIAN
PRODID:-//Refresh Web Development//Helios Calendar//EN
X-FROM-URL:https://www.bayareascience.org/calendar/index.php?com=details&eID=35007
X-WR-RELCALID:BayAreaScience.org Translating Responder Expertise: Enhancing university wildfire management and communications - Livestream 20231205T123000
X-WR-TIMEZONE:America/New_York
X-WR-CALNAME:BayAreaScience.org
BEGIN:VEVENT
URL;VALUE=URI:https://www.bayareascience.org/calendar/index.php?com=detail&eID=35007
DTSTART:20231205T123000
DTEND:20231205T133000
SUMMARY:Translating Responder Expertise: Enhancing university wildfire management and communications - Livestream
DESCRIPTION:The scale and impact of wildfires in California generates resource needs that can strain the stateâ€™s mutual aid system and has fundamentally changed the way responders and agency officials...\n______________________________\nThis Event Downloaded From a Helios Calendar Powered Site
LOCATION:Stanford University -  \, \, CA  
CATEGORIES:BayAreaScience.org Events
PRIORITY:0
TRANSP:TRANSPARENT
END:VEVENT
END:VCALENDAR