BEGIN:VCALENDAR
VERSION:2.0
METHOD:PUBLISH
CALSCALE:GREGORIAN
PRODID:-//Refresh Web Development//Helios Calendar//EN
X-FROM-URL:https://www.bayareascience.org/calendar/index.php?com=details&eID=35009
X-WR-RELCALID:BayAreaScience.org Tour of highlights from the Astronomy Picture of the Day archive for 2023 - Livestream 20231219T180000
X-WR-TIMEZONE:America/New_York
X-WR-CALNAME:BayAreaScience.org
BEGIN:VEVENT
URL;VALUE=URI:https://www.bayareascience.org/calendar/index.php?com=detail&eID=35009
DTSTART:20231219T180000
DTEND:20231219T180000
SUMMARY:Tour of highlights from the Astronomy Picture of the Day archive for 2023 - Livestream
DESCRIPTION:Join the NASA Night Sky Network along with Dr. Robert Nemiroff for a tour of highlights from the Astronomy Picture of the Day archive for 2023.Along with Jerry Bonnell\, Robert Nemiroff has...\n______________________________\nThis Event Downloaded From a Helios Calendar Powered Site
LOCATION:Astronomical Society of the Pacific -  \, \, CA  
CATEGORIES:BayAreaScience.org Events
PRIORITY:0
TRANSP:TRANSPARENT
END:VEVENT
END:VCALENDAR